BEGIN:VCALENDAR
VERSION:2.0
PRODID:-//eventon.com NONSGML v1.0//EN
CALSCALE:GREGORIAN
METHOD:PUBLISH
BEGIN:VEVENT
UID:69e739f386484
DTSTAMP:20260421T084851Z
DTSTART:20211008T220000Z
DTEND:20211009T215900Z
LOCATION:ROMA
SUMMARY:SIE – Endodontic Courses
DESCRIPTION:SIE – Endodontic Courses\nhttps://www.asso-odontoiatria.it/ev
 ents/sie-endodontic-courses-5/
URL:https://www.asso-odontoiatria.it/events/sie-endodontic-courses-5/
END:VEVENT
END:VCALENDAR