BEGIN:VCALENDAR
VERSION:2.0
PRODID:-//eventon.com NONSGML v1.0//EN
CALSCALE:GREGORIAN
METHOD:PUBLISH
BEGIN:VEVENT
UID:69e5e58e2534e
DTSTAMP:20260420T083630Z
DTSTART:20220121T230000Z
DTEND:20220122T225900Z
LOCATION:Virtual event
SUMMARY:IAO – ATTIVITÀ DIGITALE WE ARE YELLOW
DESCRIPTION:IAO – ATTIVITÀ DIGITALE WE ARE YELLOW\nhttps://www.asso-odon
 toiatria.it/events/iao-attivita-digitale-we-are-yellow/
URL:https://www.asso-odontoiatria.it/events/iao-attivita-digitale-we-are-yellow/
END:VEVENT
END:VCALENDAR