BEGIN:VCALENDAR
VERSION:2.0
PRODID:-//eventon.com NONSGML v1.0//EN
CALSCALE:GREGORIAN
METHOD:PUBLISH
BEGIN:VEVENT
UID:69e8f285d37f1
DTSTAMP:20260422T160837Z
DTSTART:20230613T220000Z
DTEND:20230617T215900Z
LOCATION:Mikros\,  Sesto San Giovanni (MI)
SUMMARY:AIE - VivEndo
DESCRIPTION:AIE - VivEndo\nhttps://www.asso-odontoiatria.it/events/aie-vive
 ndo-6/
URL:https://www.asso-odontoiatria.it/events/aie-vivendo-6/
END:VEVENT
END:VCALENDAR