BEGIN:VCALENDAR
VERSION:2.0
PRODID:-//eventon.com NONSGML v1.0//EN
CALSCALE:GREGORIAN
METHOD:PUBLISH
BEGIN:VEVENT
UID:69e73adba3506
DTSTAMP:20260421T085243Z
DTSTART:20230929
DTEND:20230930
LOCATION:RIVA DEL GARDA
SUMMARY:AIC - Corso di Aggiornamento Autunnale
DESCRIPTION:AIC - Corso di Aggiornamento Autunnale\nhttps://www.asso-odonto
 iatria.it/events/aic-corso-di-aggiornamento-autunnale-2/
URL:https://www.asso-odontoiatria.it/events/aic-corso-di-aggiornamento-autunnale-2/
END:VEVENT
END:VCALENDAR