BEGIN:VCALENDAR
VERSION:2.0
PRODID:-//eventon.com NONSGML v1.0//EN
CALSCALE:GREGORIAN
METHOD:PUBLISH
BEGIN:VEVENT
UID:69ea44806f397
DTSTAMP:20260423T161040Z
DTSTART:20221121T190000Z
DTEND:20221121T200000Z
LOCATION:ALESSANDRIA (Tortona) Circolo di lettura Corso Leoniero 8 - 15057 Tortona
SUMMARY:AIE - STUDY CLUB (ALESSANDRIA)
DESCRIPTION:\nhttps://www.asso-odontoiatria.it/events/aie-study-club-alessa
 ndria/
URL:https://www.asso-odontoiatria.it/events/aie-study-club-alessandria/
END:VEVENT
END:VCALENDAR