BEGIN:VCALENDAR
VERSION:2.0
PRODID:-//eventon.com NONSGML v1.0//EN
CALSCALE:GREGORIAN
METHOD:PUBLISH
BEGIN:VEVENT
UID:69e7997394530
DTSTAMP:20260421T153619Z
DTSTART:20230211
DTEND:20230212
LOCATION:CORTINA Hotel Majestic Località Peziè\,  103\,  32043 Cortina d'Ampezzo BL
SUMMARY:IAO - 4° WINTER MEETING - SESSIONE IGIENISTI
DESCRIPTION:IAO - 4° WINTER MEETING - SESSIONE IGIENISTI\nhttps://www.asso
 -odontoiatria.it/events/iao-4-winter-meeting-sessione-igienisti/
URL:https://www.asso-odontoiatria.it/events/iao-4-winter-meeting-sessione-igienisti/
END:VEVENT
END:VCALENDAR