BEGIN:VCALENDAR
VERSION:2.0
PRODID:-//eventon.com NONSGML v1.0//EN
CALSCALE:GREGORIAN
METHOD:PUBLISH
BEGIN:VEVENT
UID:69e7394024b48
DTSTAMP:20260421T084552Z
DTSTART:20261119
DTEND:20261120
LOCATION:BOLOGNA Palazzo della Cultura e dei Congressi
SUMMARY:AIOP – 45° Congresso Internazionale
DESCRIPTION:AIOP – 45° Congresso Internazionale\nhttps://www.asso-odonto
 iatria.it/events/aiop-congresso-nazionale-4/
URL:https://www.asso-odontoiatria.it/events/aiop-congresso-nazionale-4/
END:VEVENT
END:VCALENDAR