BEGIN:VCALENDAR
VERSION:2.0
PRODID:-//eventon.com NONSGML v1.0//EN
CALSCALE:GREGORIAN
METHOD:PUBLISH
BEGIN:VEVENT
UID:69e4ce5ef1473
DTSTAMP:20260419T124518Z
DTSTART:20260319
DTEND:20260320
LOCATION:RIMINI\,  Palazzo dei Congressi
SUMMARY:SIdP - 24° CONGRESSO NAZIONALE
DESCRIPTION:\nhttps://www.asso-odontoiatria.it/events/sidp-24-congresso-naz
 ionale/
URL:https://www.asso-odontoiatria.it/events/sidp-24-congresso-nazionale/
END:VEVENT
END:VCALENDAR