BEGIN:VCALENDAR
VERSION:2.0
PRODID:-//eventon.com NONSGML v1.0//EN
CALSCALE:GREGORIAN
METHOD:PUBLISH
BEGIN:VEVENT
UID:69e739401f617
DTSTAMP:20260421T084552Z
DTSTART:20270318
DTEND:20270319
LOCATION:RIMINI\,  Palacongressi
SUMMARY:SIdP - 23° Congresso Internazionale
DESCRIPTION:\nhttps://www.asso-odontoiatria.it/events/sidp-23-congresso-int
 ernazionale/
URL:https://www.asso-odontoiatria.it/events/sidp-23-congresso-internazionale/
END:VEVENT
END:VCALENDAR