BEGIN:VCALENDAR
VERSION:2.0
PRODID:-//eventon.com NONSGML v1.0//EN
CALSCALE:GREGORIAN
METHOD:PUBLISH
BEGIN:VEVENT
UID:69e73b19ba624
DTSTAMP:20260421T085345Z
DTSTART:20250411T070000Z
DTEND:20250412T150000Z
LOCATION:FIRENZE: Educatorio del Fuligno
SUMMARY:SIdP - CORSO ANNUALE DI PARODONTOLOGIA E IMPLANTOLOGIA
DESCRIPTION:\nhttps://www.asso-odontoiatria.it/events/sidp-corso-annuale-di
 -parodontologia-e-implantologia-10/
URL:https://www.asso-odontoiatria.it/events/sidp-corso-annuale-di-parodontologia-e-implantologia-10/
END:VEVENT
END:VCALENDAR