BEGIN:VCALENDAR
VERSION:2.0
PRODID:-//eventon.com NONSGML v1.0//EN
CALSCALE:GREGORIAN
METHOD:PUBLISH
BEGIN:VEVENT
UID:69e73ad174ade
DTSTAMP:20260421T085233Z
DTSTART:20271118T080000Z
DTEND:20271120T060000Z
LOCATION:BOLOGNA Palazzo della Cultura e dei Congressi
SUMMARY:AIOP – 46° Congresso Internazionale
DESCRIPTION:\nhttps://www.asso-odontoiatria.it/events/aiop-46-congresso-int
 ernazionale-2/
URL:https://www.asso-odontoiatria.it/events/aiop-46-congresso-internazionale-2/
END:VEVENT
END:VCALENDAR