BEGIN:VCALENDAR
VERSION:2.0
PRODID:-//eventon.com NONSGML v1.0//EN
CALSCALE:GREGORIAN
METHOD:PUBLISH
BEGIN:VEVENT
UID:69e73b9754f09
DTSTAMP:20260421T085551Z
DTSTART:20260925
DTEND:20260926
LOCATION:NAPOLI Stazione Marittima
SUMMARY:SIPRO - 5° CONGRESSO INTERNAZIONALE
DESCRIPTION:\nhttps://www.asso-odontoiatria.it/events/sipro-5th-internation
 al-congress/
URL:https://www.asso-odontoiatria.it/events/sipro-5th-international-congress/
END:VEVENT
END:VCALENDAR