BEGIN:VCALENDAR
VERSION:2.0
PRODID:-//eventon.com NONSGML v1.0//EN
CALSCALE:GREGORIAN
METHOD:PUBLISH
BEGIN:VEVENT
UID:69e73a7f57ed5
DTSTAMP:20260421T085111Z
DTSTART:20280316
DTEND:20280317
LOCATION:RIMINI
SUMMARY:SIdP - 25° Congresso Nazionale
DESCRIPTION:\nhttps://www.asso-odontoiatria.it/events/sidp-25-congresso-naz
 ionale/
URL:https://www.asso-odontoiatria.it/events/sidp-25-congresso-nazionale/
END:VEVENT
END:VCALENDAR